{"text_format":"1","workbook":"xlsx","n_sheets":4,"sheets":["Worksheet","Maximum Curve & Chart","Chart1","T12 - Calculation"],"not_rendered":{"charts":5,"images":1,"macros":1,"external_links":0,"defined_names":2,"comments":0,"pivot_tables":0},"unopened":[{"sheet":"Chart1","index":2,"reason":"not_a_worksheet"}],"bounds":{"document_bytes":16777216,"sheet_cells":100000,"rows_first":2000,"rows_last":500,"rows_between":2000,"halvings":0,"cell_chars":16384,"cell_head_chars":4096},"cells_cut":0,"cells_raw":0,"read":"whole","date_system":"1900"}

{"sheet":"Worksheet","index":0,"n_rows":42,"n_cols":5,"rows_kept":42,"cut":false,"hidden":false,"merged":[[26,3,26,4],[14,4,15,4],[0,0,0,4],[3,1,3,3],[4,1,4,3],[5,1,5,3],[6,1,6,3],[7,1,7,3],[8,1,8,3],[9,1,9,3]]}
["TM 15 Laboratory Maximum Dry Density Worksheet"]
[null,null,null,"Lab No."]
[null,null,null,"Date"]
[1,"Mass Retained on 19mm (3/4 in) Sieve"]
[2,"Mass Retained on 4.75 mm (No. 4) Sieve"]
[3,"Mass Passing 4.75 mm (No. 4) Sieve"]
[4,"Total mass(1+2 + 3)",null,null,{"$f":"E5+E6+E4","v":0}]
[5,"Percent Retained on 19mm (3/4 in) Sieve",null,null,{"$f":"E4/E7","v":{"$error":"#DIV/0!"}}]
[6,"Percent Retained on 4.75 mm (No. 4) Sieve",null,null,{"$f":"(E5+E4)/E7","v":{"$error":"#DIV/0!"}}]
[7,"Percent Passing 4.75 mm (No. 4) Sieve",null,null,{"$f":"E6/E7","v":{"$error":"#DIV/0!"}}]
[]
[null,"Density Tests","Fine","Coarse","Coarse"]
[1,"Max. Aggregate Size","#4-","3/4\" - #4","3\" - #4"]
[2,"Approx. Dry Sample Mass"]
[3,"Approx. Water Mass Added"]
[4,"Approx. % Water"]
[5,"Mass of Mold (lb.), Mm"]
[6,"Height of Mold (in.), hm "]
[7,"Diameter of Mold (in.), d "]
[9,"Cap Thickness (in.), T "]
[10,"T-bar(b) & Spacers(s) (in.) (if needed)"]
[11,"Depth Measurement (in.), D "]
[12,"Specimen Height (in.), hs (hm-D-T+b+s)",{"$f":"C18-C20-C22+C21","v":0},{"$f":"D18-D20-D22+D21","v":0},{"$f":"E18-E20-E22+E21","v":0}]
[13,"Mass of Specimen & Mold (lb.), Mms "]
[14,"Mass of Specimen (lb.), Ms (Mms-Mm)",{"$f":"C24-C17","v":0},{"$f":"D14","v":0},{"$f":"E24-E17","v":0}]
[15,"Volume of specimen in mold Vs",{"$f":"TRUNC((PI()*C23*POWER(C19/2,2))/1728,3)","v":0},{"$f":"TRUNC((PI()*D23*POWER(D19/2,2))/1728,3)","v":0},{"$f":"TRUNC((PI()*E23*POWER(E19/2,2))/1728,3)","v":0}]
[16,"Calculated Wet Density of Specimen ρw",{"$f":"(C25/C26)/453.6","v":{"$error":"#DIV/0!"}}]
[17,"Calculated Dry Density of Specimen ρd",{"$f":"C27/(1+C36)","v":{"$error":"#DIV/0!"}},{"$f":"(D25/D26)/453.6","v":{"$error":"#DIV/0!"}},{"$f":"(E25/E26)/453.6","v":{"$error":"#DIV/0!"}}]
[]
[null,"Moisture Test","Fine"]
[1,"Mass of Container"]
[2,"Mass of Container & Wet Sample"]
[3,"Mass of Wet Sample MW",{"$f":"C32-C31","v":0}]
[4,"Mass of Container & Dry Sample"]
[5,"Mass of Dry Sample MD",{"$f":"C34-C31","v":0}]
[6,"Percent Moisture, w",{"$f":"(C33-C35)/C35","v":{"$error":"#DIV/0!"}}]
[]
[null,"Specific Gravity Tests","Fine","Coarse"]
[1,"Mass of Dry Sample"]
[2,"Mass of Standardized Pycnometer"]
[3,"Mass of Pycnometer, water & Sample"]
[4,"Apparent Specific Gravity Gsa",{"$f":"C39/(C39+C40-C41)","v":{"$error":"#DIV/0!"}},{"$f":"D39/(D39+D40-D41)","v":{"$error":"#DIV/0!"}}]

{"sheet":"Maximum Curve & Chart","index":1,"n_rows":43,"n_cols":14,"rows_kept":43,"cut":false,"hidden":false,"merged":[[0,2,0,11],[42,11,42,12],[24,1,24,12],[5,1,5,5],[4,1,4,5],[21,9,21,12],[18,9,18,12],[19,9,19,12],[20,9,20,12],[17,9,17,13],[2,1,2,5],[3,1,3,5],[2,10,2,11],[2,12,2,13],[3,12,3,13]]}
[null,null,"WAQTC TM 15 \nTheoretical Maximum Dry Density \nCurve and Chart "]
[null,null,null,null,null,null,null,null,"Enter test data in 'Worksheet' tab"]
[null,"CA Gsa   =",null,null,null,null,{"$f":"Worksheet!D42","v":{"$error":"#DIV/0!"}},null,null,null,"Lab No.",null,{"$f":"Worksheet!E2","v":0}]
[null,"CA Maximum Density, pcf =",null,null,null,null,{"$f":"Worksheet!D28","v":{"$error":"#DIV/0!"}},null,null,null,null,"Date",{"$f":"Worksheet!E3","v":0}]
[null,"FA Gsa    =",null,null,null,null,{"$f":"Worksheet!C42","v":{"$error":"#DIV/0!"}}]
[null,"FA Maximum Density, pcf   =",null,null,null,null,{"$f":"Worksheet!C28","v":{"$error":"#DIV/0!"}}]
[]
[]
[]
[]
[]
[]
[]
[]
[]
[]
[]
[null,null,null,null,null,null,null,null,null,"TEST RESULTS:"]
[null,null,null,null,null,null,null,null,null,"+# 4 Gsa =",null,null,null,{"$f":"'Maximum Curve & Chart'!G3","v":{"$error":"#DIV/0!"}}]
[null,null,null,null,null,null,null,null,null,"+ # 4 Compacted Density =",null,null,null,{"$f":"C27","v":{"$error":"#DIV/0!"}}]
[null,null,null,null,null,null,null,null,null,"- # 4 Gsa=",null,null,null,{"$f":"'Maximum Curve & Chart'!G5","v":{"$error":"#DIV/0!"}}]
[null,null,null,null,null,null,null,null,null,"- # 4 Compacted Density =",null,null,null,{"$f":"M42","v":{"$error":"#DIV/0!"}}]
[]
[]
[null,"Theoretical Maximum Dry Density Chart"]
[null,"% -#4","Density","% -#4","Density","% -#4","Density","% -#4","Density","% -#4","Density","% -#4","Density"]
[null,0,{"$f":"'T12 - Calculation'!E67","v":{"$error":"#DIV/0!"}},17,{"$f":"'T12 - Calculation'!E84","v":{"$error":"#DIV/0!"}},34,{"$f":"'T12 - Calculation'!E101","v":{"$error":"#DIV/0!"}},51,{"$f":"'T12 - Calculation'!E118","v":{"$error":"#DIV/0!"}},68,{"$f":"'T12 - Calculation'!E135","v":{"$error":"#DIV/0!"}},85,{"$f":"'T12 - Calculation'!E152","v":{"$error":"#DIV/0!"}}]
[null,1,{"$f":"'T12 - Calculation'!E68","v":{"$error":"#DIV/0!"}},18,{"$f":"'T12 - Calculation'!E85","v":{"$error":"#DIV/0!"}},35,{"$f":"'T12 - Calculation'!E102","v":{"$error":"#DIV/0!"}},52,{"$f":"'T12 - Calculation'!E119","v":{"$error":"#DIV/0!"}},69,{"$f":"'T12 - Calculation'!E136","v":{"$error":"#DIV/0!"}},86,{"$f":"'T12 - Calculation'!E153","v":{"$error":"#DIV/0!"}}]
[null,2,{"$f":"'T12 - Calculation'!E69","v":{"$error":"#DIV/0!"}},19,{"$f":"'T12 - Calculation'!E86","v":{"$error":"#DIV/0!"}},36,{"$f":"'T12 - Calculation'!E103","v":{"$error":"#DIV/0!"}},53,{"$f":"'T12 - Calculation'!E120","v":{"$error":"#DIV/0!"}},70,{"$f":"'T12 - Calculation'!E137","v":{"$error":"#DIV/0!"}},87,{"$f":"'T12 - Calculation'!E154","v":{"$error":"#DIV/0!"}}]
[null,3,{"$f":"'T12 - Calculation'!E70","v":{"$error":"#DIV/0!"}},20,{"$f":"'T12 - Calculation'!E87","v":{"$error":"#DIV/0!"}},37,{"$f":"'T12 - Calculation'!E104","v":{"$error":"#DIV/0!"}},54,{"$f":"'T12 - Calculation'!E121","v":{"$error":"#DIV/0!"}},71,{"$f":"'T12 - Calculation'!E138","v":{"$error":"#DIV/0!"}},88,{"$f":"'T12 - Calculation'!E155","v":{"$error":"#DIV/0!"}}]
[null,4,{"$f":"'T12 - Calculation'!E71","v":{"$error":"#DIV/0!"}},21,{"$f":"'T12 - Calculation'!E88","v":{"$error":"#DIV/0!"}},38,{"$f":"'T12 - Calculation'!E105","v":{"$error":"#DIV/0!"}},55,{"$f":"'T12 - Calculation'!E122","v":{"$error":"#DIV/0!"}},72,{"$f":"'T12 - Calculation'!E139","v":{"$error":"#DIV/0!"}},89,{"$f":"'T12 - Calculation'!E156","v":{"$error":"#DIV/0!"}}]
[null,5,{"$f":"'T12 - Calculation'!E72","v":{"$error":"#DIV/0!"}},22,{"$f":"'T12 - Calculation'!E89","v":{"$error":"#DIV/0!"}},39,{"$f":"'T12 - Calculation'!E106","v":{"$error":"#DIV/0!"}},56,{"$f":"'T12 - Calculation'!E123","v":{"$error":"#DIV/0!"}},73,{"$f":"'T12 - Calculation'!E140","v":{"$error":"#DIV/0!"}},90,{"$f":"'T12 - Calculation'!E157","v":{"$error":"#DIV/0!"}}]
[null,6,{"$f":"'T12 - Calculation'!E73","v":{"$error":"#DIV/0!"}},23,{"$f":"'T12 - Calculation'!E90","v":{"$error":"#DIV/0!"}},40,{"$f":"'T12 - Calculation'!E107","v":{"$error":"#DIV/0!"}},57,{"$f":"'T12 - Calculation'!E124","v":{"$error":"#DIV/0!"}},74,{"$f":"'T12 - Calculation'!E141","v":{"$error":"#DIV/0!"}},91,{"$f":"'T12 - Calculation'!E158","v":{"$error":"#DIV/0!"}}]
[null,7,{"$f":"'T12 - Calculation'!E74","v":{"$error":"#DIV/0!"}},24,{"$f":"'T12 - Calculation'!E91","v":{"$error":"#DIV/0!"}},41,{"$f":"'T12 - Calculation'!E108","v":{"$error":"#DIV/0!"}},58,{"$f":"'T12 - Calculation'!E125","v":{"$error":"#DIV/0!"}},75,{"$f":"'T12 - Calculation'!E142","v":{"$error":"#DIV/0!"}},92,{"$f":"'T12 - Calculation'!E159","v":{"$error":"#DIV/0!"}}]
[null,8,{"$f":"'T12 - Calculation'!E75","v":{"$error":"#DIV/0!"}},25,{"$f":"'T12 - Calculation'!E92","v":{"$error":"#DIV/0!"}},42,{"$f":"'T12 - Calculation'!E109","v":{"$error":"#DIV/0!"}},59,{"$f":"'T12 - Calculation'!E126","v":{"$error":"#DIV/0!"}},76,{"$f":"'T12 - Calculation'!E143","v":{"$error":"#DIV/0!"}},93,{"$f":"'T12 - Calculation'!E160","v":{"$error":"#DIV/0!"}}]
[null,9,{"$f":"'T12 - Calculation'!E76","v":{"$error":"#DIV/0!"}},26,{"$f":"'T12 - Calculation'!E93","v":{"$error":"#DIV/0!"}},43,{"$f":"'T12 - Calculation'!E110","v":{"$error":"#DIV/0!"}},60,{"$f":"'T12 - Calculation'!E127","v":{"$error":"#DIV/0!"}},77,{"$f":"'T12 - Calculation'!E144","v":{"$error":"#DIV/0!"}},94,{"$f":"'T12 - Calculation'!E161","v":{"$error":"#DIV/0!"}}]
[null,10,{"$f":"'T12 - Calculation'!E77","v":{"$error":"#DIV/0!"}},27,{"$f":"'T12 - Calculation'!E94","v":{"$error":"#DIV/0!"}},44,{"$f":"'T12 - Calculation'!E111","v":{"$error":"#DIV/0!"}},61,{"$f":"'T12 - Calculation'!E128","v":{"$error":"#DIV/0!"}},78,{"$f":"'T12 - Calculation'!E145","v":{"$error":"#DIV/0!"}},95,{"$f":"'T12 - Calculation'!E162","v":{"$error":"#DIV/0!"}}]
[null,11,{"$f":"'T12 - Calculation'!E78","v":{"$error":"#DIV/0!"}},28,{"$f":"'T12 - Calculation'!E95","v":{"$error":"#DIV/0!"}},45,{"$f":"'T12 - Calculation'!E112","v":{"$error":"#DIV/0!"}},62,{"$f":"'T12 - Calculation'!E129","v":{"$error":"#DIV/0!"}},79,{"$f":"'T12 - Calculation'!E146","v":{"$error":"#DIV/0!"}},96,{"$f":"'T12 - Calculation'!E163","v":{"$error":"#DIV/0!"}}]
[null,12,{"$f":"'T12 - Calculation'!E79","v":{"$error":"#DIV/0!"}},29,{"$f":"'T12 - Calculation'!E96","v":{"$error":"#DIV/0!"}},46,{"$f":"'T12 - Calculation'!E113","v":{"$error":"#DIV/0!"}},63,{"$f":"'T12 - Calculation'!E130","v":{"$error":"#DIV/0!"}},80,{"$f":"'T12 - Calculation'!E147","v":{"$error":"#DIV/0!"}},97,{"$f":"'T12 - Calculation'!E164","v":{"$error":"#DIV/0!"}}]
[null,13,{"$f":"'T12 - Calculation'!E80","v":{"$error":"#DIV/0!"}},30,{"$f":"'T12 - Calculation'!E97","v":{"$error":"#DIV/0!"}},47,{"$f":"'T12 - Calculation'!E114","v":{"$error":"#DIV/0!"}},64,{"$f":"'T12 - Calculation'!E131","v":{"$error":"#DIV/0!"}},81,{"$f":"'T12 - Calculation'!E148","v":{"$error":"#DIV/0!"}},98,{"$f":"'T12 - Calculation'!E165","v":{"$error":"#DIV/0!"}}]
[null,14,{"$f":"'T12 - Calculation'!E81","v":{"$error":"#DIV/0!"}},31,{"$f":"'T12 - Calculation'!E98","v":{"$error":"#DIV/0!"}},48,{"$f":"'T12 - Calculation'!E115","v":{"$error":"#DIV/0!"}},65,{"$f":"'T12 - Calculation'!E132","v":{"$error":"#DIV/0!"}},82,{"$f":"'T12 - Calculation'!E149","v":{"$error":"#DIV/0!"}},99,{"$f":"'T12 - Calculation'!E166","v":{"$error":"#DIV/0!"}}]
[null,15,{"$f":"'T12 - Calculation'!E82","v":{"$error":"#DIV/0!"}},32,{"$f":"'T12 - Calculation'!E99","v":{"$error":"#DIV/0!"}},49,{"$f":"'T12 - Calculation'!E116","v":{"$error":"#DIV/0!"}},66,{"$f":"'T12 - Calculation'!E133","v":{"$error":"#DIV/0!"}},83,{"$f":"'T12 - Calculation'!E150","v":{"$error":"#DIV/0!"}},100,{"$f":"'T12 - Calculation'!E167","v":{"$error":"#DIV/0!"}}]
[null,16,{"$f":"'T12 - Calculation'!E83","v":{"$error":"#DIV/0!"}},33,{"$f":"'T12 - Calculation'!E100","v":{"$error":"#DIV/0!"}},50,{"$f":"'T12 - Calculation'!E117","v":{"$error":"#DIV/0!"}},67,{"$f":"'T12 - Calculation'!E134","v":{"$error":"#DIV/0!"}},84,{"$f":"'T12 - Calculation'!E151","v":{"$error":"#DIV/0!"}}]

{"sheet":"T12 - Calculation","index":3,"n_rows":171,"n_cols":15,"rows_kept":171,"cut":false,"hidden":true,"merged":[]}
["VIBRATORY DENSITY  ATM T-12",null,null,"Lab #:",{"$f":"#REF!","v":{"$error":"#REF!"}},null,null,null,"Solid Density:",null,null,"Loose Density:"]
[null,null,null,null,null,null,null,null,"Coarse",{"$f":"B13*62.4","v":{"$error":"#DIV/0!"}},null,{"$f":"0.94*B14-10.942","v":{"$error":"#DIV/0!"}},"Coarse"]
[null,null,null,null,null,null,null,null,"Fine",{"$f":"B15*62.4","v":{"$error":"#DIV/0!"}},null,{"$f":"0.32*B16+41.3","v":{"$error":"#DIV/0!"}},"Fine"]
[null,null,null,"   Specified Pts:","% - #4","Lbs/cf"]
[null,null,null,"Dc (+#4)",0,{"$f":"B14","v":{"$error":"#DIV/0!"}},null,null,"Intermediate Point Intercepts:",null,null,null,null,"Man. Plot Density Range"]
[null,null,null,"R",{"$f":"J14*100","v":{"$error":"#DIV/0!"}},{"$f":"(B14*L10)/((0.5*L10)+(B14*0.5))","v":{"$error":"#DIV/0!"}},null,null,"A (%-#4)",{"$f":"((B14*L3)-(L3*J2))/((B14*L3)-(L3*J2)-(B14*J2))","v":{"$error":"#DIV/0!"}},"A Lbs/cf",{"$f":"(L3*J2)/((J6*J2)+((1-J6)*L3))","v":{"$error":"#DIV/0!"}},null,"Y axis #'s:"]
[null,null,null,"O",{"$f":"J15*100","v":{"$error":"#DIV/0!"}},{"$f":"(L3*J2)/((J15*J2)+L3-(L3*J15))","v":{"$error":"#DIV/0!"}},null,null,"B (%-#4)",{"$f":"(B16*J3)/((L2*J3)+(B16*J3)-(B16*L2))","v":{"$error":"#DIV/0!"}},"B Lbs/cf",{"$f":"(L2*J3)/(((1-J7)*J3)+(J7*L2))","v":{"$error":"#DIV/0!"}},null,{"$f":"(TRUNC(MAXA(F5:F10)/5)*5)+5","v":{"$error":"#DIV/0!"}}]
[null,null,null,"M",{"$f":"J16*100","v":{"$error":"#DIV/0!"}},{"$f":"(M19*J16)+N19","v":{"$error":"#DIV/0!"}},null,null,"C (%-#4)",{"$f":"((B16*J2*J3)-(B16*L2*J3))/((L2*J2*J3)-(B16*L2*J3)+(B16*J2*J3)-(B16*L2*J2))","v":{"$error":"#DIV/0!"}},"C Lbs/cf",{"$f":"(B16*J2)/((J8*J2)+((1-J8)*B16))","v":{"$error":"#DIV/0!"}},null,{"$f":"(TRUNC(MINA(F5:F10)/5)*5)","v":{"$error":"#DIV/0!"}}]
[null,null,null,"N",{"$f":"J17*100","v":{"$error":"#DIV/0!"}},{"$f":"(M18*J17)+N18","v":{"$error":"#DIV/0!"}},null,null,"D (%-#4)",{"$f":"((L3*J2*J3)-(L3*L2*J3))/((L2*J2*J3)-(L3*L2*J3)+(L3*J2*J3)-(L3*L2*J2))","v":{"$error":"#DIV/0!"}},"D Lbs/cf",{"$f":"(L3*J2)/((J9*J2)+((1-J9)*L3))","v":{"$error":"#DIV/0!"}}]
[null,null,null,"Dc (-#4)",100,{"$f":"B16","v":{"$error":"#DIV/0!"}},null,null,"E (%-#4)",{"$f":"((L2*B16)-(B16*J2))/((L2*B16)-(B16*J2)-(L2*J2))","v":{"$error":"#DIV/0!"}},"E Lbs/cf",{"$f":"(B16*J2)/((J10*J2)+((1-J10)*B16))","v":{"$error":"#DIV/0!"}}]
[null,null,null,null,null,null,null,null,"F (%-#4)",{"$f":"(L3*J3)/((B14*J3)+(L3*J3)-(L3*B14))","v":{"$error":"#DIV/0!"}},"F Lbs/cf",{"$f":"(B14*J3)/(((1-J11)*J3)+(J11*B14))","v":{"$error":"#DIV/0!"}}]
[null,"TEST RESULTS:"]
["Coarse Specific Gravity  =",{"$f":"'Maximum Curve & Chart'!G3:G3","v":{"$error":"#DIV/0!"}},"App. SpG",null,null,null,null,null,"Intercepts for Points R and O",null,null,null,""]
["Coarse Compacted Density =",{"$f":"'Maximum Curve & Chart'!G4","v":{"$error":"#DIV/0!"}},"pcf",null,null,null,null,null,"R (%-#4)",{"$f":"J10/2","v":{"$error":"#DIV/0!"}},""]
["Fine Specific Gravity    =",{"$f":"'Maximum Curve & Chart'!G5","v":{"$error":"#DIV/0!"}},"App. SpG",null,null,null,null,null,"O (%-#4)",{"$f":"((L3*B14*L10)-(L3*J2*L10))/(((1/J10)*L3*J2*B14)-((1/J10)*L3*J2*L10)-(B14*L10*J2)+(L3*B14*L10))","v":{"$error":"#DIV/0!"}},null,null,"Line Slope / Intercept:"]
["Fine Compacted Density   =",{"$f":"'Maximum Curve & Chart'!G6","v":{"$error":"#DIV/0!"}},"pcf",null,null,null,null,null,"M (%-#4)",{"$f":"(N19-N16)/(M17-M19)","v":{"$error":"#DIV/0!"}},null,"A to C",{"$f":"(L6-L8)/(J6-J8)","v":{"$error":"#DIV/0!"}},{"$f":"L6-(M17*J6)","v":{"$error":"#DIV/0!"}}]
[null,null,null,null,null,null,null,null,"N (%-#4)",{"$f":"(N18-N17)/(M16-M18)","v":{"$error":"#DIV/0!"}},null,"A to B",{"$f":"(L6-L7)/(J6-J7)","v":{"$error":"#DIV/0!"}},{"$f":"L8-(M16*J8)","v":{"$error":"#DIV/0!"}}]
[null,null,null,null,null,null,null,null,null,null,null,"D to F",{"$f":"(L9-L11)/(J9-J11)","v":{"$error":"#DIV/0!"}},{"$f":"L9-(M18*J9)","v":{"$error":"#DIV/0!"}}]
[null,null,null,null,null,null,null,null,null,null,null,"D to E",{"$f":"(L10-L9)/(J10-J9)","v":{"$error":"#DIV/0!"}},{"$f":"L10-(M19*J10)","v":{"$error":"#DIV/0!"}}]
[]
[null,null,null,null,null,null,null,null,"Additional Intermediate Points"]
["Point Discription","  % - #4"," Lbs/CuFt",null,null,null,null,"% - #4",0,{"$f":"(F9-(F9*J17))/(1-F9*J17*(1/B16))","v":{"$error":"#DIV/0!"}},"Aiming Point for curve from 'N' to Fine Compacted Density"]
["Dc (+#4)",0,{"$f":"B14","v":{"$error":"#DIV/0!"}},null,null,null,null,null,{"$f":"J23*100","v":{"$error":"#DIV/0!"}},{"$f":"$J$17+((1-$J$17)*0.02)","v":{"$error":"#DIV/0!"}},"98% of 100-n"]
["R/10",{"$f":"J31*100","v":{"$error":"#DIV/0!"}},{"$f":"(B14*L10)/((L10*0.95)+(B14*0.05))","v":{"$error":"#DIV/0!"}},null,null,null,null,null,{"$f":"J24*100","v":{"$error":"#DIV/0!"}},{"$f":"$J$17+((1-$J$17)*0.06)","v":{"$error":"#DIV/0!"}},"94% of 100-n"]
["R/5",{"$f":"J32*100","v":{"$error":"#DIV/0!"}},{"$f":"(B14*L10)/((L10*0.9)+(B14*0.1))","v":{"$error":"#DIV/0!"}},null,null,null,null,null,{"$f":"J25*100","v":{"$error":"#DIV/0!"}},{"$f":"$J$17+((1-$J$17)*0.12)","v":{"$error":"#DIV/0!"}},"88% of 100-n"]
["R/2",{"$f":"J33*100","v":{"$error":"#DIV/0!"}},{"$f":"(B14*L10)/((L10*0.75)+(B14*0.25))","v":{"$error":"#DIV/0!"}},null,null,"","",""]
["R",{"$f":"J14*100","v":{"$error":"#DIV/0!"}},{"$f":"(B14*L10)/((0.5*L10)+(B14*0.5))","v":{"$error":"#DIV/0!"}},""]
["O",{"$f":"J15*100","v":{"$error":"#DIV/0!"}},{"$f":"(L3*J2)/((J15*J2)+L3-(L3*J15))","v":{"$error":"#DIV/0!"}}]
["M",{"$f":"J16*100","v":{"$error":"#DIV/0!"}},{"$f":"ROUND(((M19*J16)+N19),1)","v":{"$error":"#DIV/0!"}}]
["N",{"$f":"J17*100","v":{"$error":"#DIV/0!"}},{"$f":"(M18*J17)+N18","v":{"$error":"#DIV/0!"}}]
["98% of N",{"$f":"J23*100","v":{"$error":"#DIV/0!"}},{"$f":"($B$16*$J$22)/((J23*$J$22)+$B$16-(J23*$B$16))","v":{"$error":"#DIV/0!"}},null,null,null,null,null,null,{"$f":"J10/20","v":{"$error":"#DIV/0!"}},"R/10"]
["94% of N",{"$f":"J24*100","v":{"$error":"#DIV/0!"}},{"$f":"($B$16*$J$22)/((J24*$J$22)+$B$16-(J24*$B$16))","v":{"$error":"#DIV/0!"}},null,null,null,null,null,null,{"$f":"J10/10","v":{"$error":"#DIV/0!"}},"R/5"]
["88% of N",{"$f":"J25*100","v":{"$error":"#DIV/0!"}},{"$f":"($B$16*$J$22)/((J25*$J$22)+$B$16-(J25*$B$16))","v":{"$error":"#DIV/0!"}},null,null,null,null,null,null,{"$f":"J10/4","v":{"$error":"#DIV/0!"}},"R/2"]
["Dc (-#4)",100,{"$f":"B16","v":{"$error":"#DIV/0!"}},null,null,null,null,null,null,""]
[]
[]
[]
[]
[]
[null,"Power Array for Determination of Exact Fit Polynomial Solution (Curve III):B22"]
[null,1,2,3,4,5,6,7,8,9,10]
[{"$f":"B25","v":{"$error":"#DIV/0!"}},{"$f":"A42:A51^B41:K41","v":{"$error":"#DIV/0!"}},{"$error":"#DIV/0!"},{"$error":"#DIV/0!"},{"$error":"#DIV/0!"},{"$error":"#DIV/0!"},{"$error":"#DIV/0!"},{"$error":"#DIV/0!"},{"$error":"#DIV/0!"},{"$error":"#DIV/0!"},{"$error":"#DIV/0!"}]
[{"$error":"#DIV/0!"},{"$error":"#DIV/0!"},{"$error":"#DIV/0!"},{"$error":"#DIV/0!"},{"$error":"#DIV/0!"},{"$error":"#DIV/0!"},{"$error":"#DIV/0!"},{"$error":"#DIV/0!"},{"$error":"#DIV/0!"},{"$error":"#DIV/0!"},{"$error":"#DIV/0!"}]
[{"$error":"#DIV/0!"},{"$error":"#DIV/0!"},{"$error":"#DIV/0!"},{"$error":"#DIV/0!"},{"$error":"#DIV/0!"},{"$error":"#DIV/0!"},{"$error":"#DIV/0!"},{"$error":"#DIV/0!"},{"$error":"#DIV/0!"},{"$error":"#DIV/0!"},{"$error":"#DIV/0!"}]
[{"$error":"#DIV/0!"},{"$error":"#DIV/0!"},{"$error":"#DIV/0!"},{"$error":"#DIV/0!"},{"$error":"#DIV/0!"},{"$error":"#DIV/0!"},{"$error":"#DIV/0!"},{"$error":"#DIV/0!"},{"$error":"#DIV/0!"},{"$error":"#DIV/0!"},{"$error":"#DIV/0!"}]
[{"$error":"#DIV/0!"},{"$error":"#DIV/0!"},{"$error":"#DIV/0!"},{"$error":"#DIV/0!"},{"$error":"#DIV/0!"},{"$error":"#DIV/0!"},{"$error":"#DIV/0!"},{"$error":"#DIV/0!"},{"$error":"#DIV/0!"},{"$error":"#DIV/0!"},{"$error":"#DIV/0!"}]
[{"$error":"#DIV/0!"},{"$error":"#DIV/0!"},{"$error":"#DIV/0!"},{"$error":"#DIV/0!"},{"$error":"#DIV/0!"},{"$error":"#DIV/0!"},{"$error":"#DIV/0!"},{"$error":"#DIV/0!"},{"$error":"#DIV/0!"},{"$error":"#DIV/0!"},{"$error":"#DIV/0!"}]
[{"$error":"#DIV/0!"},{"$error":"#DIV/0!"},{"$error":"#DIV/0!"},{"$error":"#DIV/0!"},{"$error":"#DIV/0!"},{"$error":"#DIV/0!"},{"$error":"#DIV/0!"},{"$error":"#DIV/0!"},{"$error":"#DIV/0!"},{"$error":"#DIV/0!"},{"$error":"#DIV/0!"}]
[{"$error":"#DIV/0!"},{"$error":"#DIV/0!"},{"$error":"#DIV/0!"},{"$error":"#DIV/0!"},{"$error":"#DIV/0!"},{"$error":"#DIV/0!"},{"$error":"#DIV/0!"},{"$error":"#DIV/0!"},{"$error":"#DIV/0!"},{"$error":"#DIV/0!"},{"$error":"#DIV/0!"}]
[{"$error":"#DIV/0!"},{"$error":"#DIV/0!"},{"$error":"#DIV/0!"},{"$error":"#DIV/0!"},{"$error":"#DIV/0!"},{"$error":"#DIV/0!"},{"$error":"#DIV/0!"},{"$error":"#DIV/0!"},{"$error":"#DIV/0!"},{"$error":"#DIV/0!"},{"$error":"#DIV/0!"},null,null,null,"Exponents"]
[100,100,10000,1000000,100000000,10000000000,1000000000000,100000000000000,1E+16,1E+18,1E+20,null,"Density",null,"for "]
[null,null,null,null,null,null,null,null,null,null,null,null,"Differential",null,"Polynomial"]
[null,"Above Array Inverted:",null,null,null,null,null,null,null,null,null,null,"Array:",null,"Solution:"]
[null,{"$f":"MINVERSE(B42:K51)","v":{"$error":"#DIV/0!"}},{"$error":"#DIV/0!"},{"$error":"#DIV/0!"},{"$error":"#DIV/0!"},{"$error":"#DIV/0!"},{"$error":"#DIV/0!"},{"$error":"#DIV/0!"},{"$error":"#DIV/0!"},{"$error":"#DIV/0!"},{"$error":"#DIV/0!"},null,{"$f":"C25:C34-C$23","v":{"$error":"#DIV/0!"}},null,{"$f":"MMULT(B54:K63,M54:M63)","v":{"$error":"#DIV/0!"}}]
[null,{"$error":"#DIV/0!"},{"$error":"#DIV/0!"},{"$error":"#DIV/0!"},{"$error":"#DIV/0!"},{"$error":"#DIV/0!"},{"$error":"#DIV/0!"},{"$error":"#DIV/0!"},{"$error":"#DIV/0!"},{"$error":"#DIV/0!"},{"$error":"#DIV/0!"},null,{"$error":"#DIV/0!"},null,{"$error":"#DIV/0!"}]
[null,{"$error":"#DIV/0!"},{"$error":"#DIV/0!"},{"$error":"#DIV/0!"},{"$error":"#DIV/0!"},{"$error":"#DIV/0!"},{"$error":"#DIV/0!"},{"$error":"#DIV/0!"},{"$error":"#DIV/0!"},{"$error":"#DIV/0!"},{"$error":"#DIV/0!"},null,{"$error":"#DIV/0!"},null,{"$error":"#DIV/0!"}]
[null,{"$error":"#DIV/0!"},{"$error":"#DIV/0!"},{"$error":"#DIV/0!"},{"$error":"#DIV/0!"},{"$error":"#DIV/0!"},{"$error":"#DIV/0!"},{"$error":"#DIV/0!"},{"$error":"#DIV/0!"},{"$error":"#DIV/0!"},{"$error":"#DIV/0!"},null,{"$error":"#DIV/0!"},null,{"$error":"#DIV/0!"}]
[null,{"$error":"#DIV/0!"},{"$error":"#DIV/0!"},{"$error":"#DIV/0!"},{"$error":"#DIV/0!"},{"$error":"#DIV/0!"},{"$error":"#DIV/0!"},{"$error":"#DIV/0!"},{"$error":"#DIV/0!"},{"$error":"#DIV/0!"},{"$error":"#DIV/0!"},null,{"$error":"#DIV/0!"},null,{"$error":"#DIV/0!"}]
[null,{"$error":"#DIV/0!"},{"$error":"#DIV/0!"},{"$error":"#DIV/0!"},{"$error":"#DIV/0!"},{"$error":"#DIV/0!"},{"$error":"#DIV/0!"},{"$error":"#DIV/0!"},{"$error":"#DIV/0!"},{"$error":"#DIV/0!"},{"$error":"#DIV/0!"},"X",{"$error":"#DIV/0!"},"=",{"$error":"#DIV/0!"}]
[null,{"$error":"#DIV/0!"},{"$error":"#DIV/0!"},{"$error":"#DIV/0!"},{"$error":"#DIV/0!"},{"$error":"#DIV/0!"},{"$error":"#DIV/0!"},{"$error":"#DIV/0!"},{"$error":"#DIV/0!"},{"$error":"#DIV/0!"},{"$error":"#DIV/0!"},null,{"$error":"#DIV/0!"},null,{"$error":"#DIV/0!"}]
[null,{"$error":"#DIV/0!"},{"$error":"#DIV/0!"},{"$error":"#DIV/0!"},{"$error":"#DIV/0!"},{"$error":"#DIV/0!"},{"$error":"#DIV/0!"},{"$error":"#DIV/0!"},{"$error":"#DIV/0!"},{"$error":"#DIV/0!"},{"$error":"#DIV/0!"},null,{"$error":"#DIV/0!"},null,{"$error":"#DIV/0!"}]
[null,{"$error":"#DIV/0!"},{"$error":"#DIV/0!"},{"$error":"#DIV/0!"},{"$error":"#DIV/0!"},{"$error":"#DIV/0!"},{"$error":"#DIV/0!"},{"$error":"#DIV/0!"},{"$error":"#DIV/0!"},{"$error":"#DIV/0!"},{"$error":"#DIV/0!"},null,{"$error":"#DIV/0!"},null,{"$error":"#DIV/0!"}]
[null,{"$error":"#DIV/0!"},{"$error":"#DIV/0!"},{"$error":"#DIV/0!"},{"$error":"#DIV/0!"},{"$error":"#DIV/0!"},{"$error":"#DIV/0!"},{"$error":"#DIV/0!"},{"$error":"#DIV/0!"},{"$error":"#DIV/0!"},{"$error":"#DIV/0!"},null,{"$error":"#DIV/0!"},null,{"$error":"#DIV/0!"}]
[]
["Curve Solutions",null,null,null,"Splined"]
["%Passing #4","Curve I","Curve II","Curve III","Curve"]
[0,{"$f":"B14","v":{"$error":"#DIV/0!"}},{"$f":"ROUND(($B$16*$C$30)/(((1-(100-A67)/(100-$B$30))*$C$30)+((((100-A67)/(100-$B$30)))*$B$16)),1)","v":{"$error":"#DIV/0!"}},{"$f":"ROUND((O$54*A67^1)+(O$55*A67^2)+(O$56*A67^3)+(O$57*A67^4)+(O$58*A67^5)+(O$59*A67^6)+(O$60*A67^7)+(O$61*A67^8)+(O$62*A67^9)+(O$63*A67^10)+C$23,1)","v":{"$error":"#DIV/0!"}},{"$f":"B14","v":{"$error":"#DIV/0!"}}]
[1,{"$f":"ROUND(($B$14*$L$10)/(((A68/($J$10*100))*$B$14)+((1-(A68/($J$10*100)))*$L$10)),1)","v":{"$error":"#DIV/0!"}},{"$error":"#DIV/0!"},{"$error":"#DIV/0!"},{"$f":"IF(A68<=B$28,B68,IF(A68<B$30,D68,C68))","v":{"$error":"#DIV/0!"}}]
[2,{"$error":"#DIV/0!"},{"$error":"#DIV/0!"},{"$error":"#DIV/0!"},{"$f":"IF(A69<=B$28,B69,IF(A69<B$30,D69,C69))","v":{"$error":"#DIV/0!"}}]
[3,{"$error":"#DIV/0!"},{"$error":"#DIV/0!"},{"$error":"#DIV/0!"},{"$error":"#DIV/0!"}]
[4,{"$error":"#DIV/0!"},{"$error":"#DIV/0!"},{"$error":"#DIV/0!"},{"$error":"#DIV/0!"}]
[5,{"$error":"#DIV/0!"},{"$error":"#DIV/0!"},{"$error":"#DIV/0!"},{"$error":"#DIV/0!"}]
[6,{"$error":"#DIV/0!"},{"$error":"#DIV/0!"},{"$error":"#DIV/0!"},{"$error":"#DIV/0!"}]
[7,{"$error":"#DIV/0!"},{"$error":"#DIV/0!"},{"$error":"#DIV/0!"},{"$error":"#DIV/0!"}]
[8,{"$error":"#DIV/0!"},{"$error":"#DIV/0!"},{"$error":"#DIV/0!"},{"$error":"#DIV/0!"}]
[9,{"$error":"#DIV/0!"},{"$error":"#DIV/0!"},{"$error":"#DIV/0!"},{"$error":"#DIV/0!"}]
[10,{"$error":"#DIV/0!"},{"$error":"#DIV/0!"},{"$error":"#DIV/0!"},{"$error":"#DIV/0!"}]
[11,{"$error":"#DIV/0!"},{"$error":"#DIV/0!"},{"$error":"#DIV/0!"},{"$error":"#DIV/0!"}]
[12,{"$error":"#DIV/0!"},{"$error":"#DIV/0!"},{"$error":"#DIV/0!"},{"$error":"#DIV/0!"}]
[13,{"$error":"#DIV/0!"},{"$error":"#DIV/0!"},{"$error":"#DIV/0!"},{"$error":"#DIV/0!"}]
[14,{"$error":"#DIV/0!"},{"$error":"#DIV/0!"},{"$error":"#DIV/0!"},{"$error":"#DIV/0!"}]
[15,{"$error":"#DIV/0!"},{"$error":"#DIV/0!"},{"$error":"#DIV/0!"},{"$error":"#DIV/0!"}]
[16,{"$error":"#DIV/0!"},{"$error":"#DIV/0!"},{"$error":"#DIV/0!"},{"$error":"#DIV/0!"}]
[17,{"$error":"#DIV/0!"},{"$error":"#DIV/0!"},{"$error":"#DIV/0!"},{"$error":"#DIV/0!"}]
[18,{"$error":"#DIV/0!"},{"$error":"#DIV/0!"},{"$error":"#DIV/0!"},{"$f":"IF(A85<=B$28,B85,IF(A85<B$30,D85,C85))","v":{"$error":"#DIV/0!"}}]
[19,{"$error":"#DIV/0!"},{"$error":"#DIV/0!"},{"$error":"#DIV/0!"},{"$error":"#DIV/0!"}]
[20,{"$error":"#DIV/0!"},{"$error":"#DIV/0!"},{"$error":"#DIV/0!"},{"$error":"#DIV/0!"}]
[21,{"$error":"#DIV/0!"},{"$error":"#DIV/0!"},{"$error":"#DIV/0!"},{"$error":"#DIV/0!"}]
[22,{"$error":"#DIV/0!"},{"$error":"#DIV/0!"},{"$error":"#DIV/0!"},{"$error":"#DIV/0!"}]
[23,{"$error":"#DIV/0!"},{"$error":"#DIV/0!"},{"$error":"#DIV/0!"},{"$error":"#DIV/0!"}]
[24,{"$error":"#DIV/0!"},{"$error":"#DIV/0!"},{"$error":"#DIV/0!"},{"$error":"#DIV/0!"}]
[25,{"$error":"#DIV/0!"},{"$error":"#DIV/0!"},{"$error":"#DIV/0!"},{"$error":"#DIV/0!"}]
[26,{"$error":"#DIV/0!"},{"$error":"#DIV/0!"},{"$error":"#DIV/0!"},{"$error":"#DIV/0!"}]
[27,{"$error":"#DIV/0!"},{"$error":"#DIV/0!"},{"$error":"#DIV/0!"},{"$error":"#DIV/0!"}]
[28,{"$error":"#DIV/0!"},{"$error":"#DIV/0!"},{"$error":"#DIV/0!"},{"$error":"#DIV/0!"}]
[29,{"$error":"#DIV/0!"},{"$error":"#DIV/0!"},{"$error":"#DIV/0!"},{"$error":"#DIV/0!"}]
[30,{"$error":"#DIV/0!"},{"$error":"#DIV/0!"},{"$error":"#DIV/0!"},{"$error":"#DIV/0!"}]
[31,{"$error":"#DIV/0!"},{"$error":"#DIV/0!"},{"$error":"#DIV/0!"},{"$error":"#DIV/0!"}]
[32,{"$error":"#DIV/0!"},{"$f":"ROUND(($B$16*$C$30)/(((1-(100-A99)/(100-$B$30))*$C$30)+((((100-A99)/(100-$B$30)))*$B$16)),1)","v":{"$error":"#DIV/0!"}},{"$f":"ROUND((O$54*A99^1)+(O$55*A99^2)+(O$56*A99^3)+(O$57*A99^4)+(O$58*A99^5)+(O$59*A99^6)+(O$60*A99^7)+(O$61*A99^8)+(O$62*A99^9)+(O$63*A99^10)+C$23,1)","v":{"$error":"#DIV/0!"}},{"$error":"#DIV/0!"}]
[33,{"$f":"ROUND(($B$14*$L$10)/(((A100/($J$10*100))*$B$14)+((1-(A100/($J$10*100)))*$L$10)),1)","v":{"$error":"#DIV/0!"}},{"$error":"#DIV/0!"},{"$error":"#DIV/0!"},{"$error":"#DIV/0!"}]
[34,{"$error":"#DIV/0!"},{"$error":"#DIV/0!"},{"$error":"#DIV/0!"},{"$f":"IF(A101<=B$28,B101,IF(A101<B$30,D101,C101))","v":{"$error":"#DIV/0!"}}]
[35,{"$error":"#DIV/0!"},{"$error":"#DIV/0!"},{"$error":"#DIV/0!"},{"$error":"#DIV/0!"}]
[36,{"$error":"#DIV/0!"},{"$error":"#DIV/0!"},{"$error":"#DIV/0!"},{"$error":"#DIV/0!"}]
[37,{"$error":"#DIV/0!"},{"$error":"#DIV/0!"},{"$error":"#DIV/0!"},{"$error":"#DIV/0!"}]
[38,{"$error":"#DIV/0!"},{"$error":"#DIV/0!"},{"$error":"#DIV/0!"},{"$error":"#DIV/0!"}]
[39,{"$error":"#DIV/0!"},{"$error":"#DIV/0!"},{"$error":"#DIV/0!"},{"$error":"#DIV/0!"}]
[40,{"$error":"#DIV/0!"},{"$error":"#DIV/0!"},{"$error":"#DIV/0!"},{"$error":"#DIV/0!"}]
[41,{"$error":"#DIV/0!"},{"$error":"#DIV/0!"},{"$error":"#DIV/0!"},{"$error":"#DIV/0!"}]
[42,{"$error":"#DIV/0!"},{"$error":"#DIV/0!"},{"$error":"#DIV/0!"},{"$error":"#DIV/0!"}]
[43,{"$error":"#DIV/0!"},{"$error":"#DIV/0!"},{"$error":"#DIV/0!"},{"$error":"#DIV/0!"}]
[44,{"$error":"#DIV/0!"},{"$error":"#DIV/0!"},{"$error":"#DIV/0!"},{"$error":"#DIV/0!"}]
[45,{"$error":"#DIV/0!"},{"$error":"#DIV/0!"},{"$error":"#DIV/0!"},{"$error":"#DIV/0!"}]
[46,{"$error":"#DIV/0!"},{"$error":"#DIV/0!"},{"$error":"#DIV/0!"},{"$error":"#DIV/0!"}]
[47,{"$error":"#DIV/0!"},{"$error":"#DIV/0!"},{"$error":"#DIV/0!"},{"$error":"#DIV/0!"}]
[48,{"$error":"#DIV/0!"},{"$error":"#DIV/0!"},{"$error":"#DIV/0!"},{"$error":"#DIV/0!"}]
[49,{"$error":"#DIV/0!"},{"$error":"#DIV/0!"},{"$error":"#DIV/0!"},{"$error":"#DIV/0!"}]
[50,{"$error":"#DIV/0!"},{"$error":"#DIV/0!"},{"$error":"#DIV/0!"},{"$f":"IF(A117<=B$28,B117,IF(A117<B$30,D117,C117))","v":{"$error":"#DIV/0!"}}]
[51,{"$error":"#DIV/0!"},{"$error":"#DIV/0!"},{"$error":"#DIV/0!"},{"$error":"#DIV/0!"}]
[52,{"$error":"#DIV/0!"},{"$error":"#DIV/0!"},{"$error":"#DIV/0!"},{"$error":"#DIV/0!"}]
[53,{"$error":"#DIV/0!"},{"$error":"#DIV/0!"},{"$error":"#DIV/0!"},{"$error":"#DIV/0!"}]
[54,{"$error":"#DIV/0!"},{"$error":"#DIV/0!"},{"$error":"#DIV/0!"},{"$error":"#DIV/0!"}]
[55,{"$error":"#DIV/0!"},{"$error":"#DIV/0!"},{"$error":"#DIV/0!"},{"$error":"#DIV/0!"}]
[56,{"$error":"#DIV/0!"},{"$error":"#DIV/0!"},{"$error":"#DIV/0!"},{"$error":"#DIV/0!"}]
[57,{"$error":"#DIV/0!"},{"$error":"#DIV/0!"},{"$error":"#DIV/0!"},{"$error":"#DIV/0!"}]
[58,{"$error":"#DIV/0!"},{"$error":"#DIV/0!"},{"$error":"#DIV/0!"},{"$error":"#DIV/0!"}]
[59,{"$error":"#DIV/0!"},{"$error":"#DIV/0!"},{"$error":"#DIV/0!"},{"$error":"#DIV/0!"}]
[60,{"$error":"#DIV/0!"},{"$error":"#DIV/0!"},{"$error":"#DIV/0!"},{"$error":"#DIV/0!"}]
[61,{"$error":"#DIV/0!"},{"$error":"#DIV/0!"},{"$error":"#DIV/0!"},{"$error":"#DIV/0!"}]
[62,{"$error":"#DIV/0!"},{"$error":"#DIV/0!"},{"$error":"#DIV/0!"},{"$error":"#DIV/0!"}]
[63,{"$error":"#DIV/0!"},{"$error":"#DIV/0!"},{"$error":"#DIV/0!"},{"$error":"#DIV/0!"}]
[64,{"$error":"#DIV/0!"},{"$f":"ROUND(($B$16*$C$30)/(((1-(100-A131)/(100-$B$30))*$C$30)+((((100-A131)/(100-$B$30)))*$B$16)),1)","v":{"$error":"#DIV/0!"}},{"$f":"ROUND((O$54*A131^1)+(O$55*A131^2)+(O$56*A131^3)+(O$57*A131^4)+(O$58*A131^5)+(O$59*A131^6)+(O$60*A131^7)+(O$61*A131^8)+(O$62*A131^9)+(O$63*A131^10)+C$23,1)","v":{"$error":"#DIV/0!"}},{"$error":"#DIV/0!"}]
[65,{"$f":"ROUND(($B$14*$L$10)/(((A132/($J$10*100))*$B$14)+((1-(A132/($J$10*100)))*$L$10)),1)","v":{"$error":"#DIV/0!"}},{"$error":"#DIV/0!"},{"$error":"#DIV/0!"},{"$error":"#DIV/0!"}]
[66,{"$error":"#DIV/0!"},{"$error":"#DIV/0!"},{"$error":"#DIV/0!"},{"$f":"IF(A133<=B$28,B133,IF(A133<B$30,D133,C133))","v":{"$error":"#DIV/0!"}}]
[67,{"$error":"#DIV/0!"},{"$error":"#DIV/0!"},{"$error":"#DIV/0!"},{"$error":"#DIV/0!"}]
[68,{"$error":"#DIV/0!"},{"$error":"#DIV/0!"},{"$error":"#DIV/0!"},{"$error":"#DIV/0!"}]
[69,{"$error":"#DIV/0!"},{"$error":"#DIV/0!"},{"$error":"#DIV/0!"},{"$error":"#DIV/0!"}]
[70,{"$error":"#DIV/0!"},{"$error":"#DIV/0!"},{"$error":"#DIV/0!"},{"$error":"#DIV/0!"}]
[71,{"$error":"#DIV/0!"},{"$error":"#DIV/0!"},{"$error":"#DIV/0!"},{"$error":"#DIV/0!"}]
[72,{"$error":"#DIV/0!"},{"$error":"#DIV/0!"},{"$error":"#DIV/0!"},{"$error":"#DIV/0!"}]
[73,{"$error":"#DIV/0!"},{"$error":"#DIV/0!"},{"$error":"#DIV/0!"},{"$error":"#DIV/0!"}]
[74,{"$error":"#DIV/0!"},{"$error":"#DIV/0!"},{"$error":"#DIV/0!"},{"$error":"#DIV/0!"}]
[75,{"$error":"#DIV/0!"},{"$error":"#DIV/0!"},{"$error":"#DIV/0!"},{"$error":"#DIV/0!"}]
[76,{"$error":"#DIV/0!"},{"$error":"#DIV/0!"},{"$error":"#DIV/0!"},{"$error":"#DIV/0!"}]
[77,{"$error":"#DIV/0!"},{"$error":"#DIV/0!"},{"$error":"#DIV/0!"},{"$error":"#DIV/0!"}]
[78,{"$error":"#DIV/0!"},{"$error":"#DIV/0!"},{"$error":"#DIV/0!"},{"$error":"#DIV/0!"}]
[79,{"$error":"#DIV/0!"},{"$error":"#DIV/0!"},{"$error":"#DIV/0!"},{"$error":"#DIV/0!"}]
[80,{"$error":"#DIV/0!"},{"$error":"#DIV/0!"},{"$error":"#DIV/0!"},{"$error":"#DIV/0!"}]
[81,{"$error":"#DIV/0!"},{"$error":"#DIV/0!"},{"$error":"#DIV/0!"},{"$error":"#DIV/0!"}]
[82,{"$error":"#DIV/0!"},{"$error":"#DIV/0!"},{"$error":"#DIV/0!"},{"$f":"IF(A149<=B$28,B149,IF(A149<B$30,D149,C149))","v":{"$error":"#DIV/0!"}}]
[83,{"$error":"#DIV/0!"},{"$error":"#DIV/0!"},{"$error":"#DIV/0!"},{"$error":"#DIV/0!"}]
[84,{"$error":"#DIV/0!"},{"$error":"#DIV/0!"},{"$error":"#DIV/0!"},{"$error":"#DIV/0!"}]
[85,{"$error":"#DIV/0!"},{"$error":"#DIV/0!"},{"$error":"#DIV/0!"},{"$error":"#DIV/0!"}]
[86,{"$error":"#DIV/0!"},{"$error":"#DIV/0!"},{"$error":"#DIV/0!"},{"$error":"#DIV/0!"}]
[87,{"$error":"#DIV/0!"},{"$error":"#DIV/0!"},{"$error":"#DIV/0!"},{"$error":"#DIV/0!"}]
[88,{"$error":"#DIV/0!"},{"$error":"#DIV/0!"},{"$error":"#DIV/0!"},{"$error":"#DIV/0!"}]
[89,{"$error":"#DIV/0!"},{"$error":"#DIV/0!"},{"$error":"#DIV/0!"},{"$error":"#DIV/0!"}]
[90,{"$error":"#DIV/0!"},{"$error":"#DIV/0!"},{"$error":"#DIV/0!"},{"$error":"#DIV/0!"}]
[91,{"$error":"#DIV/0!"},{"$error":"#DIV/0!"},{"$error":"#DIV/0!"},{"$error":"#DIV/0!"}]
[92,{"$error":"#DIV/0!"},{"$error":"#DIV/0!"},{"$error":"#DIV/0!"},{"$error":"#DIV/0!"}]
[93,{"$error":"#DIV/0!"},{"$error":"#DIV/0!"},{"$error":"#DIV/0!"},{"$error":"#DIV/0!"}]
[94,{"$error":"#DIV/0!"},{"$error":"#DIV/0!"},{"$error":"#DIV/0!"},{"$error":"#DIV/0!"}]
[95,{"$error":"#DIV/0!"},{"$error":"#DIV/0!"},{"$error":"#DIV/0!"},{"$error":"#DIV/0!"}]
[96,{"$error":"#DIV/0!"},{"$error":"#DIV/0!"},{"$error":"#DIV/0!"},{"$error":"#DIV/0!"}]
[97,{"$error":"#DIV/0!"},{"$error":"#DIV/0!"},{"$error":"#DIV/0!"},{"$error":"#DIV/0!"}]
[98,{"$error":"#DIV/0!"},{"$error":"#DIV/0!"},{"$error":"#DIV/0!"},{"$f":"IF(A165<=B$28,B165,IF(A165<B$30,D165,C165))","v":{"$error":"#DIV/0!"}}]
[99,{"$error":"#DIV/0!"},{"$error":"#DIV/0!"},{"$error":"#DIV/0!"},{"$f":"IF(A166<=B$28,B166,IF(A166<B$30,D166,C166))","v":{"$error":"#DIV/0!"}}]
[100,{"$error":"#DIV/0!"},{"$error":"#DIV/0!"},{"$error":"#DIV/0!"},{"$f":"IF(A167<=B$28,B167,IF(A167<B$30,D167,C167))","v":{"$error":"#DIV/0!"}}]
[{"$f":"ROUND(B27,1)","v":{"$error":"#DIV/0!"}},null,null,null,{"$f":"ROUND(C27,1)","v":{"$error":"#DIV/0!"}}]
[{"$f":"ROUND(B28,1)","v":{"$error":"#DIV/0!"}},null,null,null,{"$f":"ROUND(C28,1)","v":{"$error":"#DIV/0!"}}]
[{"$f":"ROUND(B29,1)","v":{"$error":"#DIV/0!"}},null,null,null,{"$f":"ROUND(C29,1)","v":{"$error":"#DIV/0!"}}]
[{"$f":"ROUND(B30,1)","v":{"$error":"#DIV/0!"}},null,null,null,{"$f":"ROUND(C30,1)","v":{"$error":"#DIV/0!"}}]